BEGIN:VCALENDAR
VERSION:2.0
PRODID:spatie/icalendar-generator
DESCRIPTION:Events from Wilton Parish
X-WR-CALDESC:Events from Wilton Parish
REFRESH-INTERVAL;VALUE=DURATION:PT1440M
X-PUBLISHED-TTL:PT1440M
BEGIN:VTIMEZONE
TZID:Etc/GMT+0
BEGIN:STANDARD
DTSTART:20250802T190000Z
TZOFFSETFROM:+0000
TZOFFSETTO:+0000
END:STANDARD
END:VTIMEZONE
BEGIN:VTIMEZONE
TZID:UTC
BEGIN:STANDARD
DTSTART:20250724T100216Z
TZOFFSETFROM:+0000
TZOFFSETTO:+0000
END:STANDARD
END:VTIMEZONE
BEGIN:VEVENT
UID:622-84
DTSTAMP:20260420T100216Z
SUMMARY:Schools Concert
LOCATION:St Mary &amp;amp\; St Nicholas\\' Church\, Wilton West Street Wilton S
 alisbury Wiltshire SP2 0DL
ORGANIZER;CN=Rector:MAILTO:rectorwilton@gmail.com
DTSTART;TZID=Etc/GMT+0:20260429T190000
DTEND;TZID=Etc/GMT+0:20260429T203000
X-ALT-DESC;FMTTYPE=TEXT/HTML:Choir and Orchestra from Bishop Wordsworth's a
 nd Godolphin Schools - perform Bob Chilcott's \"Requiem\". &amp;nbsp\;
CATEGORIES:Event
URL;VALUE=URI:https://wiltonparish.co.uk/mc-events/schools-concert/
METHOD:PUBLISH
END:VEVENT
END:VCALENDAR